BEGIN:VCALENDAR
VERSION:2.0
PRODID:-//Towarzystwo Pomocy Młodzieży - ECPv6.15.18//NONSGML v1.0//EN
CALSCALE:GREGORIAN
METHOD:PUBLISH
X-WR-CALNAME:Towarzystwo Pomocy Młodzieży
X-ORIGINAL-URL:https://tpm.org.pl
X-WR-CALDESC:Wydarzenia dla Towarzystwo Pomocy Młodzieży
REFRESH-INTERVAL;VALUE=DURATION:PT1H
X-Robots-Tag:noindex
X-PUBLISHED-TTL:PT1H
BEGIN:VTIMEZONE
TZID:Europe/Warsaw
BEGIN:DAYLIGHT
TZOFFSETFROM:+0100
TZOFFSETTO:+0200
TZNAME:CEST
DTSTART:20240331T010000
END:DAYLIGHT
BEGIN:STANDARD
TZOFFSETFROM:+0200
TZOFFSETTO:+0100
TZNAME:CET
DTSTART:20241027T010000
END:STANDARD
BEGIN:DAYLIGHT
TZOFFSETFROM:+0100
TZOFFSETTO:+0200
TZNAME:CEST
DTSTART:20250330T010000
END:DAYLIGHT
BEGIN:STANDARD
TZOFFSETFROM:+0200
TZOFFSETTO:+0100
TZNAME:CET
DTSTART:20251026T010000
END:STANDARD
BEGIN:DAYLIGHT
TZOFFSETFROM:+0100
TZOFFSETTO:+0200
TZNAME:CEST
DTSTART:20260329T010000
END:DAYLIGHT
BEGIN:STANDARD
TZOFFSETFROM:+0200
TZOFFSETTO:+0100
TZNAME:CET
DTSTART:20261025T010000
END:STANDARD
BEGIN:DAYLIGHT
TZOFFSETFROM:+0100
TZOFFSETTO:+0200
TZNAME:CEST
DTSTART:20270328T010000
END:DAYLIGHT
BEGIN:STANDARD
TZOFFSETFROM:+0200
TZOFFSETTO:+0100
TZNAME:CET
DTSTART:20271031T010000
END:STANDARD
END:VTIMEZONE
BEGIN:VEVENT
DTSTART;TZID=Europe/Warsaw:20251002T170000
DTEND;TZID=Europe/Warsaw:20260625T190000
DTSTAMP:20260423T150007
CREATED:20250730T101114Z
LAST-MODIFIED:20250930T103315Z
UID:5506-1759424400-1782414000@tpm.org.pl
SUMMARY:Grupa socjoterapeutyczna dla osób w wieku 15 - 18 lat mieszkających w Warszawie
DESCRIPTION:Jeśli chcesz lepiej radzić sobie w relacjach z rówieśnikami\, doświadczyć bycia w grupie w bezpiecznej atmosferze i poznać nowych ludzi\, zapraszamy Cię do grupy\, która da Ci możliwość:\n\nuczenia się jak budować przyjazny\, wspierający kontakt z innymi\ntworzenia wspólnie bezpiecznej przestrzeni do wymiany doświadczeń\nzobaczenia siebie i swoich zachowań w relacjach z innej perspektywy\nrozwijania kompetencji społecznych poprzez wspólne aktywności i rozmowy\nuczenia się jak rozpoznawać\, nazywać i konstruktywnie wyrażać swoje emocje i potrzeby\nwzmocnienia świadomości swoich granic i radzenia sobie w sytuacjach konfliktowych\nrozpoznawania swoich mocnych i słabych stron w relacjach z innymi\nrozwijania umiejętności korzystania ze wsparcia innych osób\n\nKiedy? \nSpotkania będą odbywały się w czwartki\, w godzinach 17:00 – 19:00 od 2 października 2025 do czerwca 2026 r. \nProwadzące:   \nAleksandra Kudyba\, Dominika Drużka – psychoterapeutki\, trenerki. \nObowiązują zapisy do grupy\, udział w grupie będzie poprzedzony spotkaniem konsultacyjnym \nMożna zapisać się telefonicznie: 508 350 320 \nLub mailowo: zapisy@tpm.org.pl \nw ramach nieodpłatnej oferty dla mieszkańców Warszawy „Pomoc szansą na zmianę” – program dla młodzieży i rodziców zagrożonych problemem alkoholowym
URL:https://tpm.org.pl/event/grupa-socjoterapeutyczna-dla-osob-w-wieku-15-18-lat-mieszkajacych-w-warszawie/
LOCATION:TPM\, ul. Nowolipki 2\, Warszawa\, 00-160
ATTACH;FMTTYPE=image/jpeg:https://tpm.org.pl/wp-content/uploads/2025/07/Grupa-socjoterapeutyczna-dla-osob-w-wieku-15-18-lat-mieszkajacych-w-Warszawie.jpg
ORGANIZER;CN="Towarzystwo Pomocy M%C5%82odzie%C5%BCy":MAILTO:tpm@tpm.org.pl
END:VEVENT
BEGIN:VEVENT
DTSTART;TZID=Europe/Warsaw:20260221T093000
DTEND;TZID=Europe/Warsaw:20260627T170000
DTSTAMP:20260423T150007
CREATED:20251222T155305Z
LAST-MODIFIED:20260206T122110Z
UID:5612-1771666200-1782579600@tpm.org.pl
SUMMARY:Grupa dla młodych kobiet
DESCRIPTION:Masz 18 – 26 lat i obecnie mieszkasz w Warszawie? Zapraszamy na cykl spotkań o charakterze wsparcia grupowego i rozwoju umiejętności społecznych. Jeżeli:\n\nszukasz miejsca\, gdzie możesz podzielić się swoimi problemami bez oceny\,\ndoświadczyłaś w przeszłości przemocy (psychicznej\, fizycznej\, seksualnej lub ekonomicznej)\,\n byłaś przemocy świadkiem w rodzinie\,\nmasz problemy ze stawianiem granic\, mówieniem „nie”\, wyrażaniem swoich potrzeb albo robisz rzeczy\, na które nie masz ochoty w różnych relacjach\,\nwchodzisz w tzw. „trudne” związki albo „ratujesz” innych\,\npotrzebujesz zmiany i innego spojrzenia na swoje prawa i  funkcjonowanie\,\nchcesz budować bardziej satysfakcjonujące relacje i związki\,\nszukasz siły i motywacji do realizacji nowych celów osobistych.\n\nNie musisz być sama z problemami! Przyjdź. Te spotkania to Twój wkład w swój rozwój i budowanie bardziej świadomego życia i relacji. Czekamy na ciebie! \nTerminy spotkań: \nluty – czerwiec 2026\, piątki w godz. 17.00 – 19.30 oraz 2 ustalone soboty \nMiejsce: \nTowarzystwo Pomocy Młodzieży\, ul. Nowolipki 2\, Warszawa \nProwadzące:   \nRenata Pijarowska\, Anna Przeradzka – psycholożki\, terapeutki\, trenerki. \nZapisy: \nTelefonicznie: 508 350 320 lub mailowo: zapisy@tpm.org.pl. Po zgłoszeniu umawiamy na konsultację do grupy. \nw ramach nieodpłatnej oferty dla mieszkańców Warszawy „Zapewnienie pomocy specjalistycznej osobom i rodzinom doznającym różnych form przemocy” współfinansowanej przez m. st. Warszawa
URL:https://tpm.org.pl/event/grupa-dla-mlodych-kobiet/
LOCATION:TPM\, ul. Nowolipki 2\, Warszawa\, 00-160
ATTACH;FMTTYPE=image/jpeg:https://tpm.org.pl/wp-content/uploads/2025/12/Grupa-dla-mlodych-kobiet-w-trudnych-zwiazkach.jpg
ORGANIZER;CN="Towarzystwo Pomocy M%C5%82odzie%C5%BCy":MAILTO:tpm@tpm.org.pl
END:VEVENT
BEGIN:VEVENT
DTSTART;TZID=Europe/Warsaw:20260409T180000
DTEND;TZID=Europe/Warsaw:20260707T200000
DTSTAMP:20260423T150007
CREATED:20260316T154524Z
LAST-MODIFIED:20260330T114309Z
UID:5645-1775757600-1783454400@tpm.org.pl
SUMMARY:„Blisko w trudnym czasie” - grupa wsparcia dla rodziców nastolatków w kryzysie psychicznym
DESCRIPTION:W trakcie spotkań będziesz mieć okazję:\n\ndowiedzieć się więcej o rozwoju nastolatków\ndoskonalić wspierającą\, uważną komunikację\npoznać sposoby wsparcia w sytuacjach kryzysowych\nprzyjrzeć się własnym emocjom\nwymienić się doświadczeniami z innymi rodzicami\n\nKiedy? \nSpotkania będą odbywały się w czwartki przez ok. 3 miesiące w godz. 18.00-20.00 oraz w wybraną sobotę. Rozpoczynamy 9 kwietnia 2026 r.\, po zebraniu grupy. \nProwadzące:   \nHanna Strzałkowska\, Anna Szpotowicz – psychoterapeutki\, trenerki \nZapisy: \nZapisy poprzez wypełnienie FORMULARZA lub telefonicznie: tel. 692 172 973\, 501 53 43 43. \nZadanie publiczne: “Pomoc i wsparcie w kryzysie psychicznym\, program dla młodzieży i młodych dorosłych doświadczających zaburzeń psychicznych i ich rodzin” dofinansowane ze środków Samorządu Województwa Mazowieckiego
URL:https://tpm.org.pl/event/blisko-w-trudnym-czasie-grupa-wsparcia-dla-rodzicow-nastolatkow-w-kryzysie-psychicznym/
LOCATION:TPM\, ul. Nowolipki 2\, Warszawa\, 00-160
ATTACH;FMTTYPE=image/jpeg:https://tpm.org.pl/wp-content/uploads/2026/03/Blisko-w-trudnym-czasie-grupa-wsparcia-dla-rodzicow-nastolatkow.jpg
ORGANIZER;CN="Towarzystwo Pomocy M%C5%82odzie%C5%BCy":MAILTO:tpm@tpm.org.pl
END:VEVENT
END:VCALENDAR